BEGIN:VCALENDAR
VERSION:2.0
PRODID:-//Badminton '80 - ECPv6.15.20//NONSGML v1.0//EN
CALSCALE:GREGORIAN
METHOD:PUBLISH
X-ORIGINAL-URL:https://badminton80wezep.nl
X-WR-CALDESC:Evenementen voor Badminton '80
REFRESH-INTERVAL;VALUE=DURATION:PT1H
X-Robots-Tag:noindex
X-PUBLISHED-TTL:PT1H
BEGIN:VTIMEZONE
TZID:UTC
BEGIN:STANDARD
TZOFFSETFROM:+0000
TZOFFSETTO:+0000
TZNAME:UTC
DTSTART:20240101T000000
END:STANDARD
END:VTIMEZONE
BEGIN:VEVENT
DTSTART;TZID=UTC:20250301T083000
DTEND;TZID=UTC:20250301T120000
DTSTAMP:20260424T015535
CREATED:20250112T154506Z
LAST-MODIFIED:20250112T154556Z
UID:5129-1740817800-1740830400@badminton80wezep.nl
SUMMARY:Uitwedstrijd Mini's
DESCRIPTION:Badminton 80 tegen Twenterand V
URL:https://badminton80wezep.nl/activiteitkalender/uitwedstrijd-minis-3/
LOCATION:’t Dikken\, Dikkensweg 1\, Wierden\, 7641 CC\, Netherlands
CATEGORIES:Mini/maxi competitie
END:VEVENT
END:VCALENDAR