BEGIN:VCALENDAR
VERSION:2.0
PRODID:-//Badminton '80 - ECPv6.15.20//NONSGML v1.0//EN
CALSCALE:GREGORIAN
METHOD:PUBLISH
X-WR-CALNAME:Badminton '80
X-ORIGINAL-URL:https://badminton80wezep.nl
X-WR-CALDESC:Evenementen voor Badminton '80
REFRESH-INTERVAL;VALUE=DURATION:PT1H
X-Robots-Tag:noindex
X-PUBLISHED-TTL:PT1H
BEGIN:VTIMEZONE
TZID:UTC
BEGIN:STANDARD
TZOFFSETFROM:+0000
TZOFFSETTO:+0000
TZNAME:UTC
DTSTART:20240101T000000
END:STANDARD
END:VTIMEZONE
BEGIN:VTIMEZONE
TZID:UTC
BEGIN:STANDARD
TZOFFSETFROM:+0000
TZOFFSETTO:+0000
TZNAME:UTC
DTSTART:20240101T000000
END:STANDARD
END:VTIMEZONE
BEGIN:VTIMEZONE
TZID:Europe/Helsinki
BEGIN:DAYLIGHT
TZOFFSETFROM:+0200
TZOFFSETTO:+0300
TZNAME:EEST
DTSTART:20240331T010000
END:DAYLIGHT
BEGIN:STANDARD
TZOFFSETFROM:+0300
TZOFFSETTO:+0200
TZNAME:EET
DTSTART:20241027T010000
END:STANDARD
BEGIN:DAYLIGHT
TZOFFSETFROM:+0200
TZOFFSETTO:+0300
TZNAME:EEST
DTSTART:20250330T010000
END:DAYLIGHT
BEGIN:STANDARD
TZOFFSETFROM:+0300
TZOFFSETTO:+0200
TZNAME:EET
DTSTART:20251026T010000
END:STANDARD
BEGIN:DAYLIGHT
TZOFFSETFROM:+0200
TZOFFSETTO:+0300
TZNAME:EEST
DTSTART:20260329T010000
END:DAYLIGHT
BEGIN:STANDARD
TZOFFSETFROM:+0300
TZOFFSETTO:+0200
TZNAME:EET
DTSTART:20261025T010000
END:STANDARD
END:VTIMEZONE
BEGIN:VEVENT
DTSTART;TZID=UTC:20250322T080000
DTEND;TZID=UTC:20250322T220000
DTSTAMP:20260423T103742
CREATED:20250109T114300Z
LAST-MODIFIED:20250112T155418Z
UID:4846-1742630400-1742680800@badminton80wezep.nl
SUMMARY:36e Kamphaltoernooi
DESCRIPTION:
URL:https://badminton80wezep.nl/activiteitkalender/36e-kamphaltoernooi/
LOCATION:Kamphal Wezep\, Heikamp 2\, Wezep\, 8091 RC
CATEGORIES:Toernooien
END:VEVENT
BEGIN:VEVENT
DTSTART;TZID=UTC:20250326T120000
DTEND;TZID=UTC:20250326T180000
DTSTAMP:20260423T103742
CREATED:20250109T121447Z
LAST-MODIFIED:20250112T155418Z
UID:4863-1742990400-1743012000@badminton80wezep.nl
SUMMARY:Jeugdtoernooi voor scholen
DESCRIPTION:
URL:https://badminton80wezep.nl/activiteitkalender/jeugdtoernooi-voor-scholen/
LOCATION:Kamphal Wezep\, Heikamp 2\, Wezep\, 8091 RC
CATEGORIES:Toernooien
END:VEVENT
BEGIN:VEVENT
DTSTART;TZID=UTC:20250329T090000
DTEND;TZID=UTC:20250329T180000
DTSTAMP:20260423T103742
CREATED:20250109T120920Z
LAST-MODIFIED:20250112T155418Z
UID:4859-1743238800-1743271200@badminton80wezep.nl
SUMMARY:Eindtoernooi Mini/Maxi competitie
DESCRIPTION:
URL:https://badminton80wezep.nl/activiteitkalender/eindtoernooi-mini-maxi-competitie/
LOCATION:Kamphal Wezep\, Heikamp 2\, Wezep\, 8091 RC
CATEGORIES:Toernooien
END:VEVENT
BEGIN:VEVENT
DTSTART;TZID=UTC:20250409T090000
DTEND;TZID=UTC:20250409T113000
DTSTAMP:20260423T103742
CREATED:20250109T121645Z
LAST-MODIFIED:20250112T155419Z
UID:4865-1744189200-1744198200@badminton80wezep.nl
SUMMARY:Recreanten toernooi
DESCRIPTION:
URL:https://badminton80wezep.nl/activiteitkalender/recreanten-toernooi/
LOCATION:Kamphal Wezep\, Heikamp 2\, Wezep\, 8091 RC
CATEGORIES:Toernooien
END:VEVENT
BEGIN:VEVENT
DTSTART;TZID=UTC:20250412T130000
DTEND;TZID=UTC:20250412T180000
DTSTAMP:20260423T103742
CREATED:20250109T122005Z
LAST-MODIFIED:20250112T155419Z
UID:4867-1744462800-1744480800@badminton80wezep.nl
SUMMARY:Badminton 80 - 45 jaar bestaanstoernooi
DESCRIPTION:
URL:https://badminton80wezep.nl/activiteitkalender/badminton-80-45-jaar-bestaanstoernooi/
LOCATION:Kamphal Wezep\, Heikamp 2\, Wezep\, 8091 RC
CATEGORIES:Toernooien
END:VEVENT
BEGIN:VEVENT
DTSTART;TZID=Europe/Helsinki:20250906T090000
DTEND;TZID=Europe/Helsinki:20250906T120000
DTSTAMP:20260423T103742
CREATED:20250810T181145Z
LAST-MODIFIED:20250810T181702Z
UID:5424-1757149200-1757160000@badminton80wezep.nl
SUMMARY:Wedstrijd jeugdcompetitie - Badminton '80 tegen NOP BV
DESCRIPTION:
URL:https://badminton80wezep.nl/activiteitkalender/wedstrijd-jeugdcompetitie/
LOCATION:NOP BV\, Boslaan 28\, Emmeloors\, 8302 AB\, Netherlands
CATEGORIES:Toernooien
END:VEVENT
END:VCALENDAR